BEGIN:VCALENDAR
VERSION:2.0
PRODID:-//hacksw/handcal//NONSGML v1.0//EN
BEGIN:VEVENT
SUMMARY:MARANS - ANGOULINS
UID:266e15d8-86db-42aa-9654-07e864740b10
DTSTART:20240428T220000Z
DTEND:20240429T220000Z
LOCATION:Localisation   
CATEGORIES:Sportif
STATUS:
URL;VALUE=URI:https://angoulinsbadmintonclub.sportsregions.fr/evenements/2024/04/29/marans-angoulins-1895504
END:VEVENT
END:VCALENDAR
