BEGIN:VCALENDAR
VERSION:2.0
PRODID:-//hacksw/handcal//NONSGML v1.0//EN
BEGIN:VEVENT
SUMMARY:ANGOULINS - SAINT-MARTIN DE RE
UID:8363ea49-a450-464d-8fc2-307538881e88
DTSTART:20240409T220000Z
DTEND:20240410T220000Z
LOCATION:Localisation   
CATEGORIES:Sportif
STATUS:
URL;VALUE=URI:https://angoulinsbadmintonclub.sportsregions.fr/evenements/2024/04/10/angoulins-saint-martin-de-re-1895503
END:VEVENT
END:VCALENDAR
