BEGIN:VCALENDAR
VERSION:2.0
PRODID:-//hacksw/handcal//NONSGML v1.0//EN
BEGIN:VEVENT
SUMMARY:ANGOULINS - SAINT-XANDRE
UID:1cde29b1-975a-4ed7-b01b-5ee6d0d03ad9
DTSTART:20240326T230000Z
DTEND:20240327T230000Z
LOCATION:Localisation   
CATEGORIES:Sportif
STATUS:
URL;VALUE=URI:https://angoulinsbadmintonclub.sportsregions.fr/evenements/2024/03/27/angoulins-saint-xandre-1895502
END:VEVENT
END:VCALENDAR
