BEGIN:VCALENDAR
VERSION:2.0
PRODID:-//hacksw/handcal//NONSGML v1.0//EN
BEGIN:VEVENT
SUMMARY:MARANS - ANGOULINS
UID:11989e87-28b2-4c21-b2cd-a804ade4b41e
DTSTART:20240313T230000Z
DTEND:20240314T230000Z
LOCATION:Localisation   
CATEGORIES:Sportif
STATUS:
URL;VALUE=URI:https://angoulinsbadmintonclub.sportsregions.fr/evenements/2024/03/14/marans-angoulins-1895494
END:VEVENT
END:VCALENDAR
