BEGIN:VCALENDAR
VERSION:2.0
PRODID:-//hacksw/handcal//NONSGML v1.0//EN
BEGIN:VEVENT
SUMMARY:CHATELAILLON - ANGOULINS
UID:197558f9-d385-4182-8d44-0ae9d9acc97d
DTSTART:20240310T230000Z
DTEND:20240311T230000Z
LOCATION:Localisation   
CATEGORIES:Sportif
STATUS:
URL;VALUE=URI:https://angoulinsbadmintonclub.sportsregions.fr/evenements/2024/03/11/chatelaillon-angoulins-1895501
END:VEVENT
END:VCALENDAR
