BEGIN:VCALENDAR
VERSION:2.0
PRODID:-//hacksw/handcal//NONSGML v1.0//EN
BEGIN:VEVENT
SUMMARY:ANGOULINS - PONT L'ABBE
UID:0505d6ce-2bc7-43d5-aec6-b20307f9f337
DTSTART:20240206T230000Z
DTEND:20240207T230000Z
LOCATION:Localisation   
CATEGORIES:Sportif
STATUS:
URL;VALUE=URI:https://angoulinsbadmintonclub.sportsregions.fr/evenements/2024/02/07/angoulins-pont-labbe-1895492
END:VEVENT
END:VCALENDAR
