BEGIN:VCALENDAR
VERSION:2.0
PRODID:-//hacksw/handcal//NONSGML v1.0//EN
BEGIN:VEVENT
SUMMARY:ANGOULINS - MARANS
UID:526b2e2c-8f69-4912-bed8-4552077d7648
DTSTART:20240123T230000Z
DTEND:20240124T230000Z
LOCATION:Localisation   
CATEGORIES:Sportif
STATUS:
URL;VALUE=URI:https://angoulinsbadmintonclub.sportsregions.fr/evenements/2024/01/24/angoulins-marans-1895500
END:VEVENT
END:VCALENDAR
