BEGIN:VCALENDAR
VERSION:2.0
PRODID:-//hacksw/handcal//NONSGML v1.0//EN
BEGIN:VEVENT
SUMMARY:SAINT-HILAIRE - ANGOULINS
UID:dd5c8bf1-f58f-49e9-b3bc-1ed708f67521
DTSTART:20240121T230000Z
DTEND:20240122T230000Z
LOCATION:Localisation   
CATEGORIES:Sportif
STATUS:
URL;VALUE=URI:https://angoulinsbadmintonclub.sportsregions.fr/evenements/2024/01/22/saint-hilaire-angoulins-1895490
END:VEVENT
END:VCALENDAR
