BEGIN:VCALENDAR
VERSION:2.0
PRODID:-//hacksw/handcal//NONSGML v1.0//EN
BEGIN:VEVENT
SUMMARY:SAINT-MARTIN DE RE - ANGOULINS
UID:747bf99f-4871-4dd5-91ee-690d47756549
DTSTART:20240109T230000Z
DTEND:20240110T230000Z
LOCATION:Localisation   
CATEGORIES:Sportif
STATUS:
URL;VALUE=URI:https://angoulinsbadmintonclub.sportsregions.fr/evenements/2024/01/10/saint-martin-de-re-angoulins-1895499
END:VEVENT
END:VCALENDAR
